BEGIN:VCALENDAR
VERSION:2.0
PRODID:-//Mosheshek - ECPv4.8.1//NONSGML v1.0//EN
CALSCALE:GREGORIAN
METHOD:PUBLISH
X-WR-CALNAME:Mosheshek
X-ORIGINAL-URL:https://mosheshek.com
X-WR-CALDESC:Events for Mosheshek
BEGIN:VEVENT
DTSTART;VALUE=DATE:20190329
DTEND;VALUE=DATE:20190330
DTSTAMP:20260425T161056
CREATED:20190307T063107Z
LAST-MODIFIED:20190401T094818Z
UID:9099-1553817600-1553903999@mosheshek.com
SUMMARY:My Visit to Bologna
DESCRIPTION:This class is a special one. Drawing inspiration and culinary excitement from my recent trip to Bologna\, Italy\, I have curated this class to teach you some of the tips\, tricks and treats I learn from there. In this class\, we will learn how to prepare Italian classics like… \n6 Slots Open\nBook Now!  \n
URL:https://mosheshek.com/event/my-visit-to-bolognia/
CATEGORIES:Classes
ATTACH;FMTTYPE=image/jpeg:https://mosheshek.com/wp-content/uploads/2019/03/Classes-Bolognia-Italian-NXPowerLite-Copy-NXPowerLite-Copy-555x453.jpg
END:VEVENT
END:VCALENDAR