BEGIN:VCALENDAR
VERSION:2.0
PRODID:-//Mosheshek - ECPv4.8.1//NONSGML v1.0//EN
CALSCALE:GREGORIAN
METHOD:PUBLISH
X-WR-CALNAME:Mosheshek
X-ORIGINAL-URL:https://mosheshek.com
X-WR-CALDESC:Events for Mosheshek
BEGIN:VEVENT
DTSTART;VALUE=DATE:20190222
DTEND;VALUE=DATE:20190223
DTSTAMP:20260425T175124
CREATED:20181203T155244Z
LAST-MODIFIED:20190401T084722Z
UID:1620-1550793600-1550879999@mosheshek.com
SUMMARY:Middle Eastern Mezze - 2
DESCRIPTION:Mezze dates back to all the cuisines found in the Ottoman Empire and is derived from the Persian word for “snack” or “taste”\, Mazze. Through this class\, we journey through the delicious realms of culinary delights that are more popular today than ever before. Through this class\, you will learn… \n\nPotatoes Romesco (bell pepper and almond sauce)\nHand-rolled Lavash\nMushrooms with Harissa\nWarm Barley\, Tomato and Sumac small plates\nGreen Beans in Spiced Walnut Tahini Dressing\nSpinach and Feta Fatayer (savoury pastry triangles)\n\n
URL:https://mosheshek.com/event/middle-eastern-mezze-2-2019-02-22/
END:VEVENT
END:VCALENDAR